BEGIN:VCALENDAR
VERSION:2.0
PRODID:-//ChamberMaster//Event Calendar 2.0//EN
METHOD:PUBLISH
X-PUBLISHED-TTL:P3D
REFRESH-INTERVAL:P3D
CALSCALE:GREGORIAN
BEGIN:VEVENT
DTSTART:20241029T170000Z
DTEND:20241029T190000Z
X-MICROSOFT-CDO-ALLDAYEVENT:FALSE
SUMMARY:Tech Tuesday - Staying Safe Online with special guest Herb Campbell from the Texas Silver-Haired Legislature
DESCRIPTION:Join us for for an interactive class on how to stay safe while online.
X-ALT-DESC;FMTTYPE=text/html:Join us for for an interactive class on how to stay safe while online.
LOCATION:Pottsboro Library 104 N. Main Pottsboro Texas 75076
UID:e.297.14011
SEQUENCE:3
DTSTAMP:20260420T042146Z
URL:https://www.pottsborochamber.com/events/details/tech-tuesday-staying-safe-online-with-special-guest-herb-campbell-from-the-texas-silver-haired-legislature-14011
END:VEVENT

END:VCALENDAR
