BEGIN:VCALENDAR
VERSION:2.0
PRODID:-//ChamberMaster//Event Calendar 2.0//EN
METHOD:PUBLISH
X-PUBLISHED-TTL:P3D
REFRESH-INTERVAL:P3D
CALSCALE:GREGORIAN
BEGIN:VEVENT
DTSTART:20230207T233000Z
DTEND:20230208T013000Z
X-MICROSOFT-CDO-ALLDAYEVENT:FALSE
SUMMARY:Rotary Club of Lake Texoma
DESCRIPTION:The Rotary Club of Lake Texoma adheres to Rotary International ideals of "Service Above Self" and focuses on literacy\, family\, youth\, health\,  hunger and water in developing countries and at home. A worldwide goal of eradicating polio remains as an important objective.
X-ALT-DESC;FMTTYPE=text/html:The Rotary Club of Lake Texoma adheres to Rotary International ideals of "Service Above Self" and focuses on literacy\, family\, youth\, health\,&nbsp\; hunger and water in developing countries and at home. A worldwide goal of eradicating polio remains as an important objective.
LOCATION:St. John's the Apostle Episcopal Church\, 760 W. FM 120\, Pottsboro\, TX
UID:e.297.7494
SEQUENCE:3
DTSTAMP:20260424T081124Z
URL:https://www.pottsborochamber.com/events/details/rotary-club-of-lake-texoma-02-07-2023-7494
END:VEVENT

END:VCALENDAR
