BEGIN:VCALENDAR
VERSION:2.0
PRODID:-//ChamberMaster//Event Calendar 2.0//EN
METHOD:PUBLISH
X-PUBLISHED-TTL:P3D
REFRESH-INTERVAL:P3D
CALSCALE:GREGORIAN
BEGIN:VEVENT
DTSTART:20260606T143000Z
DTEND:20260606T154500Z
X-MICROSOFT-CDO-ALLDAYEVENT:FALSE
SUMMARY:America 250 Book Club Session #3
DESCRIPTION:In honor of America's 250th\, the Pottsboro Library is hosting a three part series exploring the ideas behind the Declaration of Independence and how it still shapes our lives today. Join us for great conversation\, history\, and community! Speaker: Amanda Bauman Legacies: How the Declaration shaped the US. Participants must sign up for each session.
X-ALT-DESC;FMTTYPE=text/html:In honor of America&rsquo\;s 250th\, the Pottsboro Library is hosting a three part series exploring the ideas behind the Declaration of Independence and how it still shapes our lives today. Join us for great conversation\, history\, and community! Speaker: Amanda Bauman Legacies: How the Declaration shaped the US. Participants must sign up for each session.&nbsp\;
LOCATION:Pottsboro Library 104 N. Main Pottsboro Texas 75076
UID:e.297.14607
SEQUENCE:3
DTSTAMP:20260419T205143Z
URL:https://www.pottsborochamber.com/events/details/america-250-book-club-session-3-14607
END:VEVENT

END:VCALENDAR
