BEGIN:VCALENDAR
VERSION:2.0
PRODID:-//ChamberMaster//Event Calendar 2.0//EN
METHOD:PUBLISH
X-PUBLISHED-TTL:P3D
REFRESH-INTERVAL:P3D
CALSCALE:GREGORIAN
BEGIN:VEVENT
DTSTART:20240203T000000Z
DTEND:20240203T040000Z
X-MICROSOFT-CDO-ALLDAYEVENT:FALSE
SUMMARY:2024 Annual Banquet - A Grand Night with Dueling Pianos!
DESCRIPTION:Join us for the highly anticipated Pottsboro Chamber of Commerce Annual Banquet. This year we are excited to announce that our theme is "A Grand Night with Dueling Pianos".  We can't wait to celebrate another successful year for our Chamber and Community. This is our time to celebrate our community leaders\, volunteers and you - our members!
X-ALT-DESC;FMTTYPE=text/html:Join us for the highly anticipated Pottsboro Chamber of Commerce Annual Banquet. This year we are excited to announce that our theme is &quot\;A Grand Night with Dueling Pianos&quot\;.&nbsp\; We can&#39\;t wait to celebrate another successful year for our Chamber and Community. This is our time to celebrate our community leaders\, volunteers and you - our members!&nbsp\;&nbsp\;
LOCATION:Tanglewood Resort 290 Tanglewood Circle\, Pottsboro Tx 75076
UID:e.297.13691
SEQUENCE:3
DTSTAMP:20260423T083256Z
URL:https://www.pottsborochamber.com/events/details/2024-annual-banquet-a-grand-night-with-dueling-pianos-13691
END:VEVENT

END:VCALENDAR
