BEGIN:VCALENDAR
VERSION:2.0
PRODID:-//ChamberMaster//Event Calendar 2.0//EN
METHOD:PUBLISH
X-PUBLISHED-TTL:P3D
REFRESH-INTERVAL:P3D
CALSCALE:GREGORIAN
BEGIN:VEVENT
DTSTART:20231017T150000Z
DTEND:20231017T160000Z
X-MICROSOFT-CDO-ALLDAYEVENT:FALSE
SUMMARY:2023 New Member Orientation - October
DESCRIPTION:New Member Orientation\n\n\n\nNew members of the Chamber will learn the Chambermaster system and other information about how being a Chamber member can help them personally and in business. \n\nPastries\, tea\, water and coffee provided.
X-ALT-DESC;FMTTYPE=text/html:New Member Orientation<br />\n<br />\nNew members of the Chamber will learn the Chambermaster system and other information about how being a Chamber member can help them personally and in business.&nbsp\;<br />\nPastries\, tea\, water and coffee provided.&nbsp\;
LOCATION:615 E. FM 120 Pottsboro\, TX. 75076
UID:e.297.12994
SEQUENCE:3
DTSTAMP:20260425T223734Z
URL:https://www.pottsborochamber.com/events/details/2023-new-member-orientation-october-12994
END:VEVENT

END:VCALENDAR
