BEGIN:VCALENDAR
VERSION:2.0
PRODID:-//ChamberMaster//Event Calendar 2.0//EN
METHOD:PUBLISH
X-PUBLISHED-TTL:P3D
REFRESH-INTERVAL:P3D
CALSCALE:GREGORIAN
BEGIN:VEVENT
DTSTART:20220924T130000Z
DTEND:20220924T210000Z
X-MICROSOFT-CDO-ALLDAYEVENT:FALSE
SUMMARY:2022 Frontier Day - A Celebration Of Community!
DESCRIPTION:A celebration of community since 1876! This highly anticipated annual event is held Saturday\, September 24th. Food vendors\, over 100 shopping booths. bug eating contest\, parade\, live music\, children's area with face painting\, petting zoo\, art and crafts and much more! Located in Friendship Park\, this event attracts those from the Texoma and surrounding areas! The event opens at 8am and the parade will travel through town at 9:30am.  Live music begins at noon! \n\n\n\nTons of opportunities to get involved! Check out the registration links below!\n\n\n\nCar Show Application \n\n- https://www.pottsborochamber.com/form/view/26821\n\n\n\nParade Application \n\n- https://www.pottsborochamber.com/form/view/26686
X-ALT-DESC;FMTTYPE=text/html:<p><span style="font-size:14px\;"><span style="color: rgb(51\, 51\, 51)\; font-family: sans-serif\, Arial\, Verdana\, &quot\;Trebuchet MS&quot\;\; background-color: rgb(255\, 255\, 255)\;">A celebration of community since 1876! This highly anticipated annual event is held Saturday\, September 24th. Food vendors\, over 100 shopping booths. bug eating contest\, parade\, live music\,&nbsp\;</span><span style="color: rgb(51\, 51\, 51)\; font-family: sans-serif\, Arial\, Verdana\, &quot\;Trebuchet MS&quot\;\; background-color: rgb(255\, 255\, 255)\;">children's area with face painting\, petting zoo\, art and crafts and much more! Located in Friendship Park\, this event attracts those from the Texoma and surrounding areas! The event opens at 8am and the parade will travel through town at 9:30am.&nbsp\; Live music begins at noon!&nbsp\;<br>\n<br>\nTons of opportunities to get involved! Check out the registration links below!<br>\n<br>\n<strong>Car Show Application </strong></span></span></p>\n\n<p><span style="font-size:14px\;"><span style="color: rgb(51\, 51\, 51)\; font-family: sans-serif\, Arial\, Verdana\, &quot\;Trebuchet MS&quot\;\; background-color: rgb(255\, 255\, 255)\;">-&nbsp\;<a href="https://www.pottsborochamber.com/form/view/26821">https://www.pottsborochamber.com/form/view/26821</a><br>\n<br>\n<strong>Parade Application </strong></span></span></p>\n\n<p><span style="font-size:14px\;"><span style="color: rgb(51\, 51\, 51)\; font-family: sans-serif\, Arial\, Verdana\, &quot\;Trebuchet MS&quot\;\; background-color: rgb(255\, 255\, 255)\;">-&nbsp\;<a href="https://www.pottsborochamber.com/form/view/26686">https://www.pottsborochamber.com/form/view/26686</a></span></span><br>\n<br>\n<br>\n&nbsp\;</p>\n
LOCATION:Friendship Park
UID:e.297.12949
SEQUENCE:3
DTSTAMP:20260424T215150Z
URL:https://www.pottsborochamber.com/events/details/2022-frontier-day-a-celebration-of-community-12949
END:VEVENT

END:VCALENDAR
