BEGIN:VCALENDAR
VERSION:2.0
PRODID:-//ChamberMaster//Event Calendar 2.0//EN
METHOD:PUBLISH
X-PUBLISHED-TTL:P3D
REFRESH-INTERVAL:P3D
CALSCALE:GREGORIAN
BEGIN:VEVENT
DTSTART:20201021T233000Z
DTEND:20201022T023000Z
X-MICROSOFT-CDO-ALLDAYEVENT:FALSE
SUMMARY:2021 Farm To Table Dinner
DESCRIPTION:Farm To Table Dinner - Many of you may remember the Wine and Dine socials we once had--well\, we are bringing them back. We will be begin our Farm to Table Wine Pairing. We will pair some amazing foods prepared by Bon Appetit Y'all with delicious\, specifically selected wines! A portion of the proceeds will benefit The Visions Of Sugarplums.
X-ALT-DESC;FMTTYPE=text/html:Farm To Table Dinner -&nbsp\;Many of you may remember the Wine and Dine socials we once had--well\, we are bringing them back. We will be begin our Farm to Table Wine Pairing. We will pair some amazing foods prepared by Bon Appetit Y&#39\;all with delicious\, specifically selected wines! A portion of the proceeds will benefit The Visions Of Sugarplums.
LOCATION:Old Quail Run Farm 233 Old Quail Run Sherman\, TX 75092
UID:e.297.11983
SEQUENCE:3
DTSTAMP:20260424T194645Z
URL:https://www.pottsborochamber.com/events/details/2021-farm-to-table-dinner-11983
END:VEVENT

END:VCALENDAR
